BEGIN:VCALENDAR
VERSION:2.0
PRODID:-//Flying Horse - ECPv5.12.2//NONSGML v1.0//EN
CALSCALE:GREGORIAN
METHOD:PUBLISH
X-WR-CALNAME:Flying Horse
X-ORIGINAL-URL:http://flyinghorseowners.com
X-WR-CALDESC:Events for Flying Horse
BEGIN:VTIMEZONE
TZID:America/Denver
BEGIN:DAYLIGHT
TZOFFSETFROM:-0700
TZOFFSETTO:-0600
TZNAME:MDT
DTSTART:20260308T090000
END:DAYLIGHT
BEGIN:STANDARD
TZOFFSETFROM:-0600
TZOFFSETTO:-0700
TZNAME:MST
DTSTART:20261101T080000
END:STANDARD
END:VTIMEZONE
BEGIN:VEVENT
DTSTART;TZID=America/Denver:20260127T170000
DTEND;TZID=America/Denver:20260127T190000
DTSTAMP:20260419T090628
CREATED:20251220T003927Z
LAST-MODIFIED:20251220T003934Z
UID:989-1769533200-1769540400@flyinghorseowners.com
SUMMARY:Flying Horse HOA Board of Directors Meeting
DESCRIPTION:The next Flying Horse HOA Board of Directors Meeting is scheduled for Tuesday\, January 27\, 2026\, at 5:00 P.M. Homeowners are invited to attend the Meeting virtually. If you wish to attend\, please contact the Management Office via the Homeowner Portal at least twenty-four (24) hours in advance of the Meeting to request dial-in and participation information. \nHomeowner Forum: If you wish to address the Board at the Meeting\, you may do so during Homeowner Forum. The Homeowner Forum will immediately follow the Village Advisory Committee Member Forum held at the beginning of the Meeting\, which calls to order at approximately 5:00 p.m. \nAs always\, the Board Meeting Agenda will be posted prior to the Meeting on the Homeowner Portal at: Documents > Meeting Minutes & Agendas > 2026 > Agendas
URL:http://flyinghorseowners.com/event/flying-horse-hoa-board-of-directors-meeting-2/
END:VEVENT
END:VCALENDAR