BEGIN:VCALENDAR
VERSION:2.0
PRODID:-//Flying Horse - ECPv5.12.2//NONSGML v1.0//EN
CALSCALE:GREGORIAN
METHOD:PUBLISH
X-WR-CALNAME:Flying Horse
X-ORIGINAL-URL:http://flyinghorseowners.com
X-WR-CALDESC:Events for Flying Horse
BEGIN:VTIMEZONE
TZID:America/Denver
BEGIN:DAYLIGHT
TZOFFSETFROM:-0700
TZOFFSETTO:-0600
TZNAME:MDT
DTSTART:20260308T090000
END:DAYLIGHT
BEGIN:STANDARD
TZOFFSETFROM:-0600
TZOFFSETTO:-0700
TZNAME:MST
DTSTART:20261101T080000
END:STANDARD
END:VTIMEZONE
BEGIN:VEVENT
DTSTART;TZID=America/Denver:20261110T180000
DTEND;TZID=America/Denver:20261110T200000
DTSTAMP:20260419T200102
CREATED:20260114T204450Z
LAST-MODIFIED:20260114T204450Z
UID:1022-1794333600-1794340800@flyinghorseowners.com
SUMMARY:Flying Horse HOA Budget Ratification/Annual Membership Meeting (In-person)
DESCRIPTION:Place of the Meeting \nThe Club at Flying Horse \nBarolo Ballroom (East Lodge)\n1880 Weiskopf Point\, Colorado Springs\, CO 80921 \n 
URL:http://flyinghorseowners.com/event/flying-horse-hoa-budget-ratification-annual-membership-meeting-in-person/
END:VEVENT
END:VCALENDAR