BEGIN:VCALENDAR
VERSION:2.0
PRODID:-//Flying Horse - ECPv5.12.2//NONSGML v1.0//EN
CALSCALE:GREGORIAN
METHOD:PUBLISH
X-WR-CALNAME:Flying Horse
X-ORIGINAL-URL:https://flyinghorseowners.com
X-WR-CALDESC:Events for Flying Horse
BEGIN:VTIMEZONE
TZID:UTC
BEGIN:STANDARD
TZOFFSETFROM:+0000
TZOFFSETTO:+0000
TZNAME:UTC
DTSTART:20170101T000000
END:STANDARD
END:VTIMEZONE
BEGIN:VEVENT
DTSTART;TZID=UTC:20171028T120000
DTEND;TZID=UTC:20171028T150000
DTSTAMP:20260419T072138
CREATED:20171005T024553Z
LAST-MODIFIED:20171005T024553Z
UID:206-1509192000-1509202800@flyinghorseowners.com
SUMMARY:Fall Festival
DESCRIPTION:
URL:https://flyinghorseowners.com/event/fall-festival/
LOCATION:Angel Mist Park
END:VEVENT
END:VCALENDAR