BEGIN:VCALENDAR
VERSION:2.0
PRODID:-//Flying Horse - ECPv5.12.2//NONSGML v1.0//EN
CALSCALE:GREGORIAN
METHOD:PUBLISH
X-WR-CALNAME:Flying Horse
X-ORIGINAL-URL:https://flyinghorseowners.com
X-WR-CALDESC:Events for Flying Horse
BEGIN:VTIMEZONE
TZID:America/Denver
BEGIN:DAYLIGHT
TZOFFSETFROM:-0700
TZOFFSETTO:-0600
TZNAME:MDT
DTSTART:20200308T090000
END:DAYLIGHT
BEGIN:STANDARD
TZOFFSETFROM:-0600
TZOFFSETTO:-0700
TZNAME:MST
DTSTART:20201101T080000
END:STANDARD
END:VTIMEZONE
BEGIN:VEVENT
DTSTART;VALUE=DATE:20200511
DTEND;VALUE=DATE:20200901
DTSTAMP:20260421T092549
CREATED:20200511T205837Z
LAST-MODIFIED:20200511T205837Z
UID:554-1589155200-1598918399@flyinghorseowners.com
SUMMARY:SUMMER EVENTS ARE CANCELLED
DESCRIPTION:Regretfully\, all summer concert series\, movie in the park\, and BBQ are cancelled at this time.
URL:https://flyinghorseowners.com/event/summer-events-are-cancelled/
END:VEVENT
END:VCALENDAR